{"text_format":"1","workbook":"xlsx","n_sheets":6,"sheets":["ご利用申込書","参加者名簿","食事等注文書","物品使用届","プログラム（スケジュール）","記入例"],"not_rendered":{"charts":0,"images":0,"macros":1,"external_links":3,"defined_names":21,"comments":0,"pivot_tables":0},"unopened":[],"bounds":{"document_bytes":16777216,"sheet_cells":100000,"rows_first":2000,"rows_last":500,"rows_between":2000,"halvings":0,"cell_chars":16384,"cell_head_chars":4096},"cells_cut":0,"cells_raw":0,"read":"whole","date_system":"1900"}

{"sheet":"ご利用申込書","index":0,"n_rows":62,"n_cols":29,"rows_kept":62,"cut":false,"hidden":false,"merged":[[61,0,61,16],[35,2,35,16],[36,2,36,8],[36,9,36,11],[36,12,36,16],[37,0,37,1],[37,3,37,4],[37,6,37,7],[5,2,5,8],[5,9,5,11],[5,12,5,16],[5,0,5,1],[8,5,8,7],[8,8,8,10],[8,11,8,13],[8,14,8,16],[15,0,15,1],[16,0,16,1],[7,15,7,16],[6,2,6,16],[9,0,9,1],[9,2,9,4],[9,5,9,7],[9,8,9,10],[1,0,1,1],[2,0,2,1],[2,2,2,8],[2,9,2,11],[2,12,2,16],[1,2,1,16],[3,0,4,1],[3,3,3,5],[3,6,3,16],[4,3,4,16],[9,11,9,13],[9,14,9,16],[8,0,8,1],[8,2,8,4],[6,0,6,1],[7,0,7,1],[7,3,7,4],[7,6,7,7],[7,9,7,10],[7,12,7,13],[10,74,10,76],[12,0,12,1],[13,0,13,1],[14,0,14,1],[28,0,29,0],[30,0,32,0],[17,0,17,1],[18,0,18,1],[19,0,19,1],[20,0,20,1],[10,0,11,1],[10,49,10,51],[35,0,35,1],[41,2,41,4],[41,5,41,7],[33,0,33,1],[39,0,39,1],[40,0,40,1],[21,0,21,1],[22,0,23,0],[24,0,24,1],[25,0,25,1],[26,0,26,1],[27,0,27,1],[40,2,40,4],[40,5,40,7],[39,2,39,4],[39,5,39,7],[41,14,41,16],[42,2,42,4],[42,5,42,7],[42,8,42,10],[42,11,42,13],[42,14,42,16],[36,0,36,1],[41,0,41,1],[42,0,42,1],[40,8,40,10],[40,11,40,13],[40,14,40,16],[37,9,37,10],[37,12,37,13],[37,15,37,16],[39,8,39,10],[39,11,39,13],[39,14,39,16],[38,0,38,1],[48,0,48,1],[49,0,49,1],[50,0,50,1],[43,0,44,1],[45,0,45,1],[46,0,46,1],[47,0,47,1],[41,8,41,10],[41,11,41,13],[60,8,60,10],[60,11,60,13],[60,14,60,16],[51,0,51,1],[56,0,56,1],[57,0,57,1],[59,0,59,1],[60,2,60,4],[60,5,60,7],[52,0,52,1],[53,0,55,0],[58,0,58,1]]}
["◆愛知県美浜少年自然の家　ご利用申込書(許可申請書)/ご利用計画書（表）　（必要事項をご入力ください。）"]
["団体名"]
["代表者名",null,null,null,null,null,null,null,null,"電話番号"]
["住所",null,"〒"]
[]
["ご利用責任者名",null,null,null,null,null,null,null,null,"携帯番号"]
["ご利用目的"]
["ご利用日時",null,null,null,null,null,{"$f":"IF(F8=\"\",\"\",D8+1)","v":""},null,null,{"$f":"IF(I8=\"\",\"\",G8+1)","v":""},null,null,{"$f":"IF(L8=\"\",\"\",J8+1)","v":""},null,null,{"$f":"IF(O8=\"\",\"\",M8+1)","v":""}]
["入所時刻",null,null,null,null,"―",null,null,"―",null,null,"―",null,null,"―"]
["退所時刻",null,null,null,null,null,null,null,null,null,null,null,null,null,null,null,null,null,null,null,null,null,null,null,null,"●","■野外活動","2H  9-11","研修会"]
["時間区分",null,"午前Ａ","午後Ｂ","夜間Ｃ","午前Ａ","午後Ｂ","夜間Ｃ","午前Ａ","午後Ｂ","夜間Ｃ","午前Ａ","午後Ｂ","夜間Ｃ","午前Ａ","午後Ｂ","夜間Ｃ",null,null,null,null,null,null,null,null,"雨","▼歩のプログラム","2H 11-13","講習会"]
[null,null,"9-12","13-17","18-21","9-12","13-17","18-21","9-12","13-17","18-21","9-12","13-17","18-21","9-12","13-17","18-21",null,null,null,null,null,null,null,null,null,"・ウォークラリー","2H 13-15","会議"]
["第１研修室（５０人）",null,null,null,null,null,null,null,null,null,null,null,null,null,null,null,null,null,null,null,null,null,null,null,null,null,"・ハイキング","2H 15-17","学習会"]
["第２研修室（５０人）",null,null,null,null,null,null,null,null,null,null,null,null,null,null,null,null,null,null,null,null,null,null,null,null,"A","・ナイトハイク","4H  9-13","親睦会"]
["第３研修室（５０人）",null,null,null,null,null,null,null,null,null,null,null,null,null,null,null,null,null,null,null,null,null,null,null,null,"B","・オリエンテーリング","4H 11-15","クラブ・部・サークル活動"]
["第４研修室（５０人）",null,null,null,null,null,null,null,null,null,null,null,null,null,null,null,null,null,null,null,null,null,null,null,null,"雨","▼海のプログラム","4H 13-17","野外活動"]
["第５研修室（５０人）",null,null,null,null,null,null,null,null,null,null,null,null,null,null,null,null,null,null,null,null,null,null,null,null,null,"・砂の造形","8H  9-17","レクリエーション"]
["第６研修室（５０人）",null,null,null,null,null,null,null,null,null,null,null,null,null,null,null,null,null,null,null,null,null,null,null,null,"朝","・海水浴",null,"オリエンテーション"]
["第７研修室（５０人）",null,null,null,null,null,null,null,null,null,null,null,null,null,null,null,null,null,null,null,null,null,null,null,null,"昼","・地引き網",null,"その他"]
["第８研修室（５０人）",null,null,null,null,null,null,null,null,null,null,null,null,null,null,null,null,null,null,null,null,null,null,null,null,"夕","・魚つかみ"]
["第９研修室（５０人）",null,null,null,null,null,null,null,null,null,null,null,null,null,null,null,null,null,null,null,null,null,null,null,null,null,"・釣り"]
["第１０研修室（５０人）",null,null,null,null,null,null,null,null,null,null,null,null,null,null,null,null,null,null,null,null,null,null,null,null,null,"▼食のプログラム"]
["体育館\n36m×30m","全面利用",null,null,null,null,null,null,null,null,null,null,null,null,null,null,null,null,null,null,null,null,null,null,null,null,"・野外炊飯"]
[null,"半面利用",null,null,null,null,null,null,null,null,null,null,null,null,null,null,null,null,null,null,null,null,null,null,null,null,"▼楽のプログラム"]
["講堂（５００人）",null,null,null,null,null,null,null,null,null,null,null,null,null,null,null,null,null,null,null,null,null,null,null,null,null,"・ファイヤーのつどい"]
["観測ホール（６F）",null,null,null,null,null,null,null,null,null,null,null,null,null,null,null,null,null,null,null,null,null,null,null,null,null,"・屋外スポーツ・レクリエーション"]
["つどいの広場（掲揚塔）",null,null,null,null,null,null,null,null,null,null,null,null,null,null,null,null,null,null,null,null,null,null,null,null,null,"▼観のプログラム"]
["チャレンジ広場",null,null,null,null,null,null,null,null,null,null,null,null,null,null,null,null,null,null,null,null,null,null,null,null,null,"・星の観察"]
["ふれあい","広場・営火場",null,null,null,null,null,null,null,null,null,null,null,null,null,null,null,null,null,null,null,null,null,null,null,null,"・バードウォッチング"]
[null,"炊飯場",null,null,null,null,null,null,null,null,null,null,null,null,null,null,null,null,null,null,null,null,null,null,null,null,"・磯の生物観察"]
["ロマン","広場・営火場",null,null,null,null,null,null,null,null,null,null,null,null,null,null,null,null,null,null,null,null,null,null,null,null,"・史跡・文化財等紹介"]
[null,"炊飯場（A)",null,null,null,null,null,null,null,null,null,null,null,null,null,null,null,null,null,null,null,null,null,null,null,null,"■屋内活動"]
[null,"炊飯場（B)",null,null,null,null,null,null,null,null,null,null,null,null,null,null,null,null,null,null,null,null,null,null,null,null,"▼創のプログラム"]
["野外ステージ・芝生広場",null,null,null,null,null,null,null,null,null,null,null,null,null,null,null,null,null,null,null,null,null,null,null,null,null,"・湯呑みの一刀彫り"]
["◆愛知県美浜少年自然の家　ご利用申込書/ご利用計画書（裏）　　　（必要事項をご記入・入力ください。）",null,null,null,null,null,null,null,null,null,null,null,null,null,null,null,null,null,null,null,null,null,null,null,null,null,"・壁掛けクラフト"]
["団体名",null,{"$f":"IF(C2=\"\",\"\",C2)","v":""},null,null,null,null,null,null,null,null,null,null,null,null,null,null,null,null,null,null,null,null,null,null,null,"・竹とんぼ"]
["ご利用責任者名",null,{"$f":"IF(C6=\"\",\"\",C6)","v":""},null,null,null,null,null,null,"電話番号",null,null," (              )      -",null,null,null,null,null,null,null,null,null,null,null,null,null,"・ビーチコーミング"]
["ご利用日時",null,"初日",{"$f":"IF(D8=\"\",\"\",D8)","v":""},null,"２日目",{"$f":"G8","v":""},null,"３日目",{"$f":"J8","v":""},null,"４日目",{"$f":"M8","v":""},null,"５日目",{"$f":"P8","v":""},null,null,null,null,null,null,null,null,null,null,"▼楽のプログラム"]
["時間区分",null,"２H","４H","８H","２H","４H","８H","２H","４H","８H","２H","４H","８H","２H","４H","８H",null,null,null,null,null,null,null,null,null,"・キャンドルのつどい"]
["テニスコート（Ａ）",null,null,null,null,null,null,null,null,null,null,null,null,null,null,null,null,null,null,null,null,null,null,null,null,null,"▼視のプログラム"]
["テニスコート（B）",null,null,null,null,null,null,null,null,null,null,null,null,null,null,null,null,null,null,null,null,null,null,null,null,null,"・視聴覚機器による活動"]
["テニスコート（C）"]
["テニスコート（D）"]
["アクティビティ・プログラム",null,"午前Ａ","午後Ｂ","夜間Ｃ","午前Ａ","午後Ｂ","夜間Ｃ","午前Ａ","午後Ｂ","夜間Ｃ","午前Ａ","午後Ｂ","夜間Ｃ","午前Ａ","午後Ｂ","夜間Ｃ"]
[null,null,"9-12","13-17","18-21","9-12","13-17","18-21","9-12","13-17","18-21","9-12","13-17","18-21","9-12","13-17","18-21"]
[]
[]
[]
[]
[]
[]
["ご利用者数",null,"計","男","女","計","男","女","計","男","女","計","男","女","計","男","女"]
["ご利用総人数",null,{"$f":"IF(SUM(D53:E53)<1,\"\",SUM(D53:E53))","v":""},null,null,{"$f":"IF(SUM(G53:H53)<1,\"\",SUM(G53:H53))","v":""},null,null,{"$f":"IF(SUM(J53:K53)<1,\"\",SUM(J53:K53))","v":""},null,null,{"$f":"IF(SUM(M53:N53)<1,\"\",SUM(M53:N53))","v":""},null,null,{"$f":"IF(SUM(P53:Q53)<1,\"\",SUM(P53:Q53))","v":""}]
["ご宿泊","小・中学生",{"$f":"IF(SUM(D54:E54)<1,\"\",SUM(D54:E54))","v":""},null,null,{"$f":"IF(SUM(G54:H54)<1,\"\",SUM(G54:H54))","v":""},null,null,{"$f":"IF(SUM(J54:K54)<1,\"\",SUM(J54:K54))","v":""},null,null,{"$f":"IF(SUM(M54:N54)<1,\"\",SUM(M54:N54))","v":""},null,null,{"$f":"IF(SUM(P54:Q54)<1,\"\",SUM(P54:Q54))","v":""}]
[null,"高校生以上",{"$f":"IF(SUM(D55:E55)<1,\"\",SUM(D55:E55))","v":""},null,null,{"$f":"IF(SUM(G55:H55)<1,\"\",SUM(G55:H55))","v":""},null,null,{"$f":"IF(SUM(J55:K55)<1,\"\",SUM(J55:K55))","v":""},null,null,{"$f":"IF(SUM(M55:N55)<1,\"\",SUM(M55:N55))","v":""},null,null,{"$f":"IF(SUM(P55:Q55)<1,\"\",SUM(P55:Q55))","v":""}]
[null,"宿泊人数合計",{"$f":"IF(SUM(D56:E56)<1,\"\",SUM(D56:E56))","v":""},{"$f":"IF(SUM(D54:D55)>0,SUM(D54:D55),\"\")","v":""},{"$f":"IF(SUM(E54:E55)>0,SUM(E54:E55),\"\")","v":""},{"$f":"IF(SUM(G56:H56)<1,\"\",SUM(G56:H56))","v":""},{"$f":"IF(SUM(G54:G55)>0,SUM(G54:G55),\"\")","v":""},{"$f":"IF(SUM(H54:H55)>0,SUM(H54:H55),\"\")","v":""},{"$f":"IF(SUM(J56:K56)<1,\"\",SUM(J56:K56))","v":""},{"$f":"IF(SUM(J54:J55)>0,SUM(J54:J55),\"\")","v":""},{"$f":"IF(SUM(K54:K55)>0,SUM(K54:K55),\"\")","v":""},{"$f":"IF(SUM(M56:N56)<1,\"\",SUM(M56:N56))","v":""},{"$f":"IF(SUM(M54:M55)>0,SUM(M54:M55),\"\")","v":""},{"$f":"IF(SUM(N54:N55)>0,SUM(N54:N55),\"\")","v":""},{"$f":"IF(SUM(P56:Q56)<1,\"\",SUM(P56:Q56))","v":""},{"$f":"IF(SUM(P54:P55)>0,SUM(P54:P55),\"\")","v":""},{"$f":"IF(SUM(Q54:Q55)>0,SUM(Q54:Q55),\"\")","v":""}]
["お食事数",null,"朝食","昼食","夕食","朝食","昼食","夕食","朝食","昼食","夕食","朝食","昼食","夕食","朝食","昼食","夕食"]
["食堂で食べる分"]
["弁当を注文する分"]
["野外食材を注文する分"]
["備\n考","機材等の借用依頼、施設利用における要望事項をご記入ください。"]
["\n【ご記入・入力にあたっての注意事項】\n団体名などの必要事項をご記入いただき、仮予約済みの施設のご利用時間帯区分の欄に○印をお付けください。/アクティビティプ・ログラムについては、ご利用されるプログラムの名称をご記入・選択したうえで、時間帯区分に印をお付けください。/テニスコートについては、2時間単位で該当する区分に印をお付けください。/ご利用者数欄の利用総人員数には日帰り＋宿泊の利用人数をご記入・入力ください。/宿泊人数については、年齢区分ごとにご記入・入力ください。/お食事数の欄には、食堂でお食べになる分と野外炊飯で食材を注文する分とに分けて、必要人数をご記入・入力ください。/4泊5日を超えてご利用される場合には、本用紙をコピーのうえ、6日目以降を2枚目の用紙にご記入・入力ください。"]

{"sheet":"参加者名簿","index":1,"n_rows":55,"n_cols":25,"rows_kept":55,"cut":false,"hidden":false,"merged":[[0,0,0,10],[1,1,1,2],[3,0,4,0],[3,1,4,1],[3,2,4,2],[3,3,4,3],[3,4,3,10],[1,5,1,6],[1,8,1,9]]}
["◆愛知県美浜少年自然の家　宿泊者名簿　　（必要事項をご入力ください。）",null,null,null,null,null,null,null,null,null,null,null,null,null,null,null,null,null,"1泊目","2泊目","3泊目","4泊目","5泊目","6泊目","7泊目"]
["団体名",{"$f":"IF(ご利用申込書!C2=\"\",\"\",ご利用申込書!C2)","v":""},null,"利用期間","入所日",{"$f":"IF(ご利用申込書!D8=\"\",\"\",ご利用申込書!D8)","v":""},null,"退所日",{"$f":"IF(ご利用申込書!P8<>\"\",ご利用申込書!P8,IF(ご利用申込書!M8<>\"\",ご利用申込書!M8,IF(ご利用申込書!J8<>\"\",ご利用申込書!J8,IF(ご利用申込書!G8<>\"\",ご利用申込書!G8,\"\"))))","v":""},null,null,null,null,null,null,null,null,"   *** 小学生 男計",{"$f":"IF($E$5=\"\",\"\",SUMPRODUCT(($C$6:$C$55=\"小学生\")*($D$6:$D$55=\"男\")*($E$6:$E$55=\"\")))","v":""},{"$f":"IF($F$5=\"\",\"\",SUMPRODUCT(($C$6:$C$55=\"小学生\")*($D$6:$D$55=\"男\")*($F$6:$F$55=\"\")))","v":""},{"$f":"IF($G$5=\"\",\"\",SUMPRODUCT(($C$6:$C$55=\"小学生\")*($D$6:$D$55=\"男\")*($G$6:$G$55=\"\")))","v":""},{"$f":"IF($H$5=\"\",\"\",SUMPRODUCT(($C$6:$C$55=\"小学生\")*($D$6:$D$55=\"男\")*($H$6:$H$55=\"\")))","v":""},{"$f":"IF($I$5=\"\",\"\",SUMPRODUCT(($C$6:$C$55=\"小学生\")*($D$6:$D$55=\"男\")*($I$6:$I$55=\"\")))","v":""},{"$f":"IF($J$5=\"\",\"\",SUMPRODUCT(($C$6:$C$55=\"小学生\")*($D$6:$D$55=\"男\")*($J$6:$J$55=\"\")))","v":""},{"$f":"IF($K$5=\"\",\"\",SUMPRODUCT(($C$6:$C$55=\"小学生\")*($D$6:$D$55=\"男\")*($K$6:$K$55=\"\")))","v":""}]
[null,null,null,null,null,null,null,null,null,null,null,null,null,null,null,null,null,"   *** 小学生 女計",{"$f":"IF($E$5=\"\",\"\",SUMPRODUCT(($C$6:$C$55=\"小学生\")*($D$6:$D$55=\"女\")*($E$6:$E$55=\"\")))","v":""},{"$f":"IF($F$5=\"\",\"\",SUMPRODUCT(($C$6:$C$55=\"小学生\")*($D$6:$D$55=\"女\")*($F$6:$F$55=\"\")))","v":""},{"$f":"IF($G$5=\"\",\"\",SUMPRODUCT(($C$6:$C$55=\"小学生\")*($D$6:$D$55=\"女\")*($G$6:$G$55=\"\")))","v":""},{"$f":"IF($H$5=\"\",\"\",SUMPRODUCT(($C$6:$C$55=\"小学生\")*($D$6:$D$55=\"女\")*($H$6:$H$55=\"\")))","v":""},{"$f":"IF($I$5=\"\",\"\",SUMPRODUCT(($C$6:$C$55=\"小学生\")*($D$6:$D$55=\"女\")*($I$6:$I$55=\"\")))","v":""},{"$f":"IF($J$5=\"\",\"\",SUMPRODUCT(($C$6:$C$55=\"小学生\")*($D$6:$D$55=\"女\")*($J$6:$J$55=\"\")))","v":""},{"$f":"IF($K$5=\"\",\"\",SUMPRODUCT(($C$6:$C$55=\"小学生\")*($D$6:$D$55=\"女\")*($K$6:$K$55=\"\")))","v":""}]
["番号","氏　　　　名","区分　","性別"," 宿泊日　　(その日に宿泊しない方には「×」を付けてください。)",null,null,null,null,null,null,null,null,null,null,null,null,"   *** 中学生 男計",{"$f":"IF($E$5=\"\",\"\",SUMPRODUCT(($C$6:$C$55=\"中学生\")*($D$6:$D$55=\"男\")*($E$6:$E$55=\"\")))","v":""},{"$f":"IF($F$5=\"\",\"\",SUMPRODUCT(($C$6:$C$55=\"中学生\")*($D$6:$D$55=\"男\")*($F$6:$F$55=\"\")))","v":""},{"$f":"IF($G$5=\"\",\"\",SUMPRODUCT(($C$6:$C$55=\"中学生\")*($D$6:$D$55=\"男\")*($G$6:$G$55=\"\")))","v":""},{"$f":"IF($H$5=\"\",\"\",SUMPRODUCT(($C$6:$C$55=\"中学生\")*($D$6:$D$55=\"男\")*($H$6:$H$55=\"\")))","v":""},{"$f":"IF($I$5=\"\",\"\",SUMPRODUCT(($C$6:$C$55=\"中学生\")*($D$6:$D$55=\"男\")*($I$6:$I$55=\"\")))","v":""},{"$f":"IF($J$5=\"\",\"\",SUMPRODUCT(($C$6:$C$55=\"中学生\")*($D$6:$D$55=\"男\")*($J$6:$J$55=\"\")))","v":""},{"$f":"IF($K$5=\"\",\"\",SUMPRODUCT(($C$6:$C$55=\"中学生\")*($D$6:$D$55=\"男\")*($K$6:$K$55=\"\")))","v":""}]
[null,null,null,null,{"$f":"IF(F2=\"\",\"\",F2)","v":""},{"$f":"IF(E5=\"\",\"\",IF((E5+1)<=$I2,E5+1,\"\"))","v":""},{"$f":"IF(F5=\"\",\"\",IF((F5+1)<=$I2,F5+1,\"\"))","v":""},"","","","",null,null,null,null,null,null,"   *** 中学生 女計",{"$f":"IF($E$5=\"\",\"\",SUMPRODUCT(($C$6:$C$55=\"中学生\")*($D$6:$D$55=\"女\")*($E$6:$E$55=\"\")))","v":""},{"$f":"IF($F$5=\"\",\"\",SUMPRODUCT(($C$6:$C$55=\"中学生\")*($D$6:$D$55=\"女\")*($F$6:$F$55=\"\")))","v":""},{"$f":"IF($G$5=\"\",\"\",SUMPRODUCT(($C$6:$C$55=\"中学生\")*($D$6:$D$55=\"女\")*($G$6:$G$55=\"\")))","v":""},{"$f":"IF($H$5=\"\",\"\",SUMPRODUCT(($C$6:$C$55=\"中学生\")*($D$6:$D$55=\"女\")*($H$6:$H$55=\"\")))","v":""},{"$f":"IF($I$5=\"\",\"\",SUMPRODUCT(($C$6:$C$55=\"中学生\")*($D$6:$D$55=\"女\")*($I$6:$I$55=\"\")))","v":""},{"$f":"IF($J$5=\"\",\"\",SUMPRODUCT(($C$6:$C$55=\"中学生\")*($D$6:$D$55=\"女\")*($J$6:$J$55=\"\")))","v":""},{"$f":"IF($K$5=\"\",\"\",SUMPRODUCT(($C$6:$C$55=\"中学生\")*($D$6:$D$55=\"女\")*($K$6:$K$55=\"\")))","v":""}]
[1,null,null,null,null,null,null,null,null,null,null,null,null,null,null,null,null,"   *** 高校生 男計",{"$f":"IF($E$5=\"\",\"\",SUMPRODUCT(($C$6:$C$55=\"高校生\")*($D$6:$D$55=\"男\")*($E$6:$E$55=\"\")))","v":""},{"$f":"IF($F$5=\"\",\"\",SUMPRODUCT(($C$6:$C$55=\"高校生\")*($D$6:$D$55=\"男\")*($F$6:$F$55=\"\")))","v":""},{"$f":"IF($G$5=\"\",\"\",SUMPRODUCT(($C$6:$C$55=\"高校生\")*($D$6:$D$55=\"男\")*($G$6:$G$55=\"\")))","v":""},{"$f":"IF($H$5=\"\",\"\",SUMPRODUCT(($C$6:$C$55=\"高校生\")*($D$6:$D$55=\"男\")*($H$6:$H$55=\"\")))","v":""},{"$f":"IF($I$5=\"\",\"\",SUMPRODUCT(($C$6:$C$55=\"高校生\")*($D$6:$D$55=\"男\")*($I$6:$I$55=\"\")))","v":""},{"$f":"IF($J$5=\"\",\"\",SUMPRODUCT(($C$6:$C$55=\"高校生\")*($D$6:$D$55=\"男\")*($J$6:$J$55=\"\")))","v":""},{"$f":"IF($K$5=\"\",\"\",SUMPRODUCT(($C$6:$C$55=\"高校生\")*($D$6:$D$55=\"男\")*($K$6:$K$55=\"\")))","v":""}]
[2,null,null,null,null,null,null,null,null,null,null,null,null,null,null,null,null,"   *** 高校生 女計",{"$f":"IF($E$5=\"\",\"\",SUMPRODUCT(($C$6:$C$55=\"高校生\")*($D$6:$D$55=\"女\")*($E$6:$E$55=\"\")))","v":""},{"$f":"IF($F$5=\"\",\"\",SUMPRODUCT(($C$6:$C$55=\"高校生\")*($D$6:$D$55=\"女\")*($F$6:$F$55=\"\")))","v":""},{"$f":"IF($G$5=\"\",\"\",SUMPRODUCT(($C$6:$C$55=\"高校生\")*($D$6:$D$55=\"女\")*($G$6:$G$55=\"\")))","v":""},{"$f":"IF($H$5=\"\",\"\",SUMPRODUCT(($C$6:$C$55=\"高校生\")*($D$6:$D$55=\"女\")*($H$6:$H$55=\"\")))","v":""},{"$f":"IF($I$5=\"\",\"\",SUMPRODUCT(($C$6:$C$55=\"高校生\")*($D$6:$D$55=\"女\")*($I$6:$I$55=\"\")))","v":""},{"$f":"IF($J$5=\"\",\"\",SUMPRODUCT(($C$6:$C$55=\"高校生\")*($D$6:$D$55=\"女\")*($J$6:$J$55=\"\")))","v":""},{"$f":"IF($K$5=\"\",\"\",SUMPRODUCT(($C$6:$C$55=\"高校生\")*($D$6:$D$55=\"女\")*($K$6:$K$55=\"\")))","v":""}]
[3,null,null,null,null,null,null,null,null,null,null,null,null,null,null,null,null,"   *** 大学生 男計",{"$f":"IF($E$5=\"\",\"\",SUMPRODUCT(($C$6:$C$55=\"大学・専門生\")*($D$6:$D$55=\"男\")*($E$6:$E$55=\"\")))","v":""},{"$f":"IF($F$5=\"\",\"\",SUMPRODUCT(($C$6:$C$55=\"大学・専門生\")*($D$6:$D$55=\"男\")*($F$6:$F$55=\"\")))","v":""},{"$f":"IF($G$5=\"\",\"\",SUMPRODUCT(($C$6:$C$55=\"大学・専門生\")*($D$6:$D$55=\"男\")*($G$6:$G$55=\"\")))","v":""},{"$f":"IF($H$5=\"\",\"\",SUMPRODUCT(($C$6:$C$55=\"大学・専門生\")*($D$6:$D$55=\"男\")*($H$6:$H$55=\"\")))","v":""},{"$f":"IF($I$5=\"\",\"\",SUMPRODUCT(($C$6:$C$55=\"大学・専門生\")*($D$6:$D$55=\"男\")*($I$6:$I$55=\"\")))","v":""},{"$f":"IF($J$5=\"\",\"\",SUMPRODUCT(($C$6:$C$55=\"大学・専門生\")*($D$6:$D$55=\"男\")*($J$6:$J$55=\"\")))","v":""},{"$f":"IF($K$5=\"\",\"\",SUMPRODUCT(($C$6:$C$55=\"大学・専門生\")*($D$6:$D$55=\"男\")*($K$6:$K$55=\"\")))","v":""}]
[4,null,null,null,null,null,null,null,null,null,null,null,null,null,null,null,null,"   *** 大学生 女計",{"$f":"IF($E$5=\"\",\"\",SUMPRODUCT(($C$6:$C$55=\"大学・専門生\")*($D$6:$D$55=\"女\")*($E$6:$E$55=\"\")))","v":""},{"$f":"IF($F$5=\"\",\"\",SUMPRODUCT(($C$6:$C$55=\"大学・専門生\")*($D$6:$D$55=\"女\")*($F$6:$F$55=\"\")))","v":""},{"$f":"IF($G$5=\"\",\"\",SUMPRODUCT(($C$6:$C$55=\"大学・専門生\")*($D$6:$D$55=\"女\")*($G$6:$G$55=\"\")))","v":""},{"$f":"IF($H$5=\"\",\"\",SUMPRODUCT(($C$6:$C$55=\"大学・専門生\")*($D$6:$D$55=\"女\")*($H$6:$H$55=\"\")))","v":""},{"$f":"IF($I$5=\"\",\"\",SUMPRODUCT(($C$6:$C$55=\"大学・専門生\")*($D$6:$D$55=\"女\")*($I$6:$I$55=\"\")))","v":""},{"$f":"IF($J$5=\"\",\"\",SUMPRODUCT(($C$6:$C$55=\"大学・専門生\")*($D$6:$D$55=\"女\")*($J$6:$J$55=\"\")))","v":""},{"$f":"IF($K$5=\"\",\"\",SUMPRODUCT(($C$6:$C$55=\"大学・専門生\")*($D$6:$D$55=\"女\")*($K$6:$K$55=\"\")))","v":""}]
[5,null,null,null,null,null,null,null,null,null,null,null,null,null,null,null,null,"   *** 指導者 男計",{"$f":"IF($E$5=\"\",\"\",SUMPRODUCT(($C$6:$C$55=\"指導者\")*($D$6:$D$55=\"男\")*($E$6:$E$55=\"\")))","v":""},{"$f":"IF($F$5=\"\",\"\",SUMPRODUCT(($C$6:$C$55=\"指導者\")*($D$6:$D$55=\"男\")*($F$6:$F$55=\"\")))","v":""},{"$f":"IF($G$5=\"\",\"\",SUMPRODUCT(($C$6:$C$55=\"指導者\")*($D$6:$D$55=\"男\")*($G$6:$G$55=\"\")))","v":""},{"$f":"IF($H$5=\"\",\"\",SUMPRODUCT(($C$6:$C$55=\"指導者\")*($D$6:$D$55=\"男\")*($H$6:$H$55=\"\")))","v":""},{"$f":"IF($I$5=\"\",\"\",SUMPRODUCT(($C$6:$C$55=\"指導者\")*($D$6:$D$55=\"男\")*($I$6:$I$55=\"\")))","v":""},{"$f":"IF($J$5=\"\",\"\",SUMPRODUCT(($C$6:$C$55=\"指導者\")*($D$6:$D$55=\"男\")*($J$6:$J$55=\"\")))","v":""},{"$f":"IF($K$5=\"\",\"\",SUMPRODUCT(($C$6:$C$55=\"指導者\")*($D$6:$D$55=\"男\")*($K$6:$K$55=\"\")))","v":""}]
[6,null,null,null,null,null,null,null,null,null,null,null,null,null,null,null,null,"   *** 指導者 女計",{"$f":"IF($E$5=\"\",\"\",SUMPRODUCT(($C$6:$C$55=\"指導者\")*($D$6:$D$55=\"女\")*($E$6:$E$55=\"\")))","v":""},{"$f":"IF($F$5=\"\",\"\",SUMPRODUCT(($C$6:$C$55=\"指導者\")*($D$6:$D$55=\"女\")*($F$6:$F$55=\"\")))","v":""},{"$f":"IF($G$5=\"\",\"\",SUMPRODUCT(($C$6:$C$55=\"指導者\")*($D$6:$D$55=\"女\")*($G$6:$G$55=\"\")))","v":""},{"$f":"IF($H$5=\"\",\"\",SUMPRODUCT(($C$6:$C$55=\"指導者\")*($D$6:$D$55=\"女\")*($H$6:$H$55=\"\")))","v":""},{"$f":"IF($I$5=\"\",\"\",SUMPRODUCT(($C$6:$C$55=\"指導者\")*($D$6:$D$55=\"女\")*($I$6:$I$55=\"\")))","v":""},{"$f":"IF($J$5=\"\",\"\",SUMPRODUCT(($C$6:$C$55=\"指導者\")*($D$6:$D$55=\"女\")*($J$6:$J$55=\"\")))","v":""},{"$f":"IF($K$5=\"\",\"\",SUMPRODUCT(($C$6:$C$55=\"指導者\")*($D$6:$D$55=\"女\")*($K$6:$K$55=\"\")))","v":""}]
[7,null,null,null,null,null,null,null,null,null,null,null,null,null,null,null,null,"   *** 成　人　男計",{"$f":"IF($E$5=\"\",\"\",SUMPRODUCT(($C$6:$C$55=\"成人\")*($D$6:$D$55=\"男\")*($E$6:$E$55=\"\")))","v":""},{"$f":"IF($F$5=\"\",\"\",SUMPRODUCT(($C$6:$C$55=\"成人\")*($D$6:$D$55=\"男\")*($F$6:$F$55=\"\")))","v":""},{"$f":"IF($G$5=\"\",\"\",SUMPRODUCT(($C$6:$C$55=\"成人\")*($D$6:$D$55=\"男\")*($G$6:$G$55=\"\")))","v":""},{"$f":"IF($H$5=\"\",\"\",SUMPRODUCT(($C$6:$C$55=\"成人\")*($D$6:$D$55=\"男\")*($H$6:$H$55=\"\")))","v":""},{"$f":"IF($I$5=\"\",\"\",SUMPRODUCT(($C$6:$C$55=\"成人\")*($D$6:$D$55=\"男\")*($I$6:$I$55=\"\")))","v":""},{"$f":"IF($J$5=\"\",\"\",SUMPRODUCT(($C$6:$C$55=\"成人\")*($D$6:$D$55=\"男\")*($J$6:$J$55=\"\")))","v":""},{"$f":"IF($K$5=\"\",\"\",SUMPRODUCT(($C$6:$C$55=\"成人\")*($D$6:$D$55=\"男\")*($K$6:$K$55=\"\")))","v":""}]
[8,null,null,null,null,null,null,null,null,null,null,null,null,null,null,null,null,"   *** 成　人　女計",{"$f":"IF($E$5=\"\",\"\",SUMPRODUCT(($C$6:$C$55=\"成人\")*($D$6:$D$55=\"女\")*($E$6:$E$55=\"\")))","v":""},{"$f":"IF($F$5=\"\",\"\",SUMPRODUCT(($C$6:$C$55=\"成人\")*($D$6:$D$55=\"女\")*($F$6:$F$55=\"\")))","v":""},{"$f":"IF($G$5=\"\",\"\",SUMPRODUCT(($C$6:$C$55=\"成人\")*($D$6:$D$55=\"女\")*($G$6:$G$55=\"\")))","v":""},{"$f":"IF($H$5=\"\",\"\",SUMPRODUCT(($C$6:$C$55=\"成人\")*($D$6:$D$55=\"女\")*($H$6:$H$55=\"\")))","v":""},{"$f":"IF($I$5=\"\",\"\",SUMPRODUCT(($C$6:$C$55=\"成人\")*($D$6:$D$55=\"女\")*($I$6:$I$55=\"\")))","v":""},{"$f":"IF($J$5=\"\",\"\",SUMPRODUCT(($C$6:$C$55=\"成人\")*($D$6:$D$55=\"女\")*($J$6:$J$55=\"\")))","v":""},{"$f":"IF($K$5=\"\",\"\",SUMPRODUCT(($C$6:$C$55=\"成人\")*($D$6:$D$55=\"女\")*($K$6:$K$55=\"\")))","v":""}]
[9,null,null,null,null,null,null,null,null,null,null,null,null,null,null,null,null,"   *** その他 男計",{"$f":"IF($E$5=\"\",\"\",SUMPRODUCT(($C$6:$C$55=\"その他\")*($D$6:$D$55=\"男\")*($E$6:$E$55=\"\")))","v":""},{"$f":"IF($F$5=\"\",\"\",SUMPRODUCT(($C$6:$C$55=\"その他\")*($D$6:$D$55=\"男\")*($F$6:$F$55=\"\")))","v":""},{"$f":"IF($G$5=\"\",\"\",SUMPRODUCT(($C$6:$C$55=\"その他\")*($D$6:$D$55=\"男\")*($G$6:$G$55=\"\")))","v":""},{"$f":"IF($H$5=\"\",\"\",SUMPRODUCT(($C$6:$C$55=\"その他\")*($D$6:$D$55=\"男\")*($H$6:$H$55=\"\")))","v":""},{"$f":"IF($I$5=\"\",\"\",SUMPRODUCT(($C$6:$C$55=\"その他\")*($D$6:$D$55=\"男\")*($I$6:$I$55=\"\")))","v":""},{"$f":"IF($J$5=\"\",\"\",SUMPRODUCT(($C$6:$C$55=\"その他\")*($D$6:$D$55=\"男\")*($J$6:$J$55=\"\")))","v":""},{"$f":"IF($K$5=\"\",\"\",SUMPRODUCT(($C$6:$C$55=\"その他\")*($D$6:$D$55=\"男\")*($K$6:$K$55=\"\")))","v":""}]
[10,null,null,null,null,null,null,null,null,null,null,null,null,null,null,null,null,"   *** その他 女計",{"$f":"IF($E$5=\"\",\"\",SUMPRODUCT(($C$6:$C$55=\"その他\")*($D$6:$D$55=\"女\")*($E$6:$E$55=\"\")))","v":""},{"$f":"IF($F$5=\"\",\"\",SUMPRODUCT(($C$6:$C$55=\"その他\")*($D$6:$D$55=\"女\")*($F$6:$F$55=\"\")))","v":""},{"$f":"IF($G$5=\"\",\"\",SUMPRODUCT(($C$6:$C$55=\"その他\")*($D$6:$D$55=\"女\")*($G$6:$G$55=\"\")))","v":""},{"$f":"IF($H$5=\"\",\"\",SUMPRODUCT(($C$6:$C$55=\"その他\")*($D$6:$D$55=\"女\")*($H$6:$H$55=\"\")))","v":""},{"$f":"IF($I$5=\"\",\"\",SUMPRODUCT(($C$6:$C$55=\"その他\")*($D$6:$D$55=\"女\")*($I$6:$I$55=\"\")))","v":""},{"$f":"IF($J$5=\"\",\"\",SUMPRODUCT(($C$6:$C$55=\"その他\")*($D$6:$D$55=\"女\")*($J$6:$J$55=\"\")))","v":""},{"$f":"IF($K$5=\"\",\"\",SUMPRODUCT(($C$6:$C$55=\"その他\")*($D$6:$D$55=\"女\")*($K$6:$K$55=\"\")))","v":""}]
[11]
[12]
[13]
[14]
[15]
[16]
[17]
[18]
[19]
[20]
[21]
[22]
[23]
[24]
[25]
[26]
[27]
[28]
[29]
[30]
[31]
[32]
[33]
[34]
[35]
[36]
[37]
[38]
[39]
[40]
[41]
[42]
[43]
[44]
[45]
[46]
[47]
[48]
[49]
[50]

{"sheet":"食事等注文書","index":2,"n_rows":135,"n_cols":33,"rows_kept":135,"cut":false,"hidden":false,"merged":[[2,8,2,9],[3,8,3,9],[4,1,4,2],[4,4,4,5],[5,1,5,2],[5,4,5,5],[2,0,3,0],[2,1,3,3],[2,4,3,4],[2,5,3,6],[8,1,8,2],[8,4,8,5],[9,1,9,2],[9,4,9,5],[6,1,6,2],[6,4,6,5],[7,1,7,2],[7,4,7,5],[12,1,12,2],[12,4,12,5],[13,1,13,2],[13,4,13,5],[10,1,10,2],[10,4,10,5],[11,1,11,2],[11,4,11,5],[14,1,14,2],[14,4,14,5],[15,1,15,2],[15,4,15,5],[20,1,20,2],[20,4,20,5],[18,1,18,2],[18,4,18,5],[19,1,19,2],[19,4,19,5],[16,1,16,2],[16,4,16,5],[21,1,21,2],[21,4,21,5],[17,1,17,2],[17,4,17,5],[24,1,24,2],[24,4,24,5],[25,1,25,2],[25,4,25,5],[22,1,22,2],[22,4,22,5],[23,1,23,2],[23,4,23,5],[37,0,37,4],[39,0,40,0],[30,1,30,2],[30,4,30,5],[34,0,34,1],[34,2,34,3],[36,0,36,1],[36,2,36,3],[38,1,38,3],[39,4,40,9],[39,1,40,3],[32,0,32,1],[41,0,42,0],[41,1,41,4],[41,5,41,9],[42,1,42,4],[42,5,42,9],[28,1,28,2],[28,4,28,5],[29,1,29,2],[29,4,29,5],[26,1,26,2],[26,4,26,5],[27,1,27,2],[27,4,27,5]]}
["株式会社　みはま　御中",null,null,"　　　食　事　等　注　文　書"]
[]
["団体名",{"$f":"IF(ご利用申込書!C2=\"\",\"\",ご利用申込書!C2)","v":""},null,null,"ご利用\n責任者",{"$f":"IF(ご利用申込書!C6=\"\",\"\",ご利用申込書!C6)","v":""},null,"代表電話",{"$f":"IF(ご利用申込書!M3=\"\",\"\",ご利用申込書!M3)","v":""},null,null,"注文品",null,null,"受取場所",null,null,null,"受取日時"]
[null,null,null,null,null,null,null,"携帯電話",{"$f":"IF(ご利用申込書!M6=\"\",\"\",ご利用申込書!M6)","v":""},null,null,"■１．食事",null,"null","食堂"]
["受取日時","注文品名",null,"※受取場所","※受取（準備）方法",null,"数 量","単 価","金額（円）","備  考",null,"▼（１）バイキング",null,"null","体育館",null,null,null,{"$f":"IF(ご利用申込書!D8=\"\",\"\",ご利用申込書!D8)","v":""}]
[null,null,null,null,null,null,null,{"$f":"IF(B6=\"\",\"\",VLOOKUP(B6,みはま注文,3,))","v":""},{"$f":"IF(H6=\"別途\",S11*G6+S12,IF((H6=\"\")+(H6=\"時価\"),\"\",G6*H6))","v":""},"",null,"朝食バイキング","食堂",570,"講堂",null,null,null,{"$f":"IF(ご利用申込書!G8=\"\",\"\",ご利用申込書!G8)","v":""},"","",null,{"$f":"IF(V6<>\"\",\"05\",\"\")","v":""},{"$f":"IF(W6<>\"\",\"10\",\"\")","v":""},{"$f":"IF(X6<>\"\",\"15\",\"\")","v":""},{"$f":"IF(Y6<>\"\",\"20\",\"\")","v":""},{"$f":"IF(Z6<>\"\",\"25\",\"\")","v":""},{"$f":"IF(AA6<>\"\",\"30\",\"\")","v":""},{"$f":"IF(AB6<>\"\",\"35\",\"\")","v":""},{"$f":"IF(AC6<>\"\",\"40\",\"\")","v":""},{"$f":"IF(AD6<>\"\",\"45\",\"\")","v":""},{"$f":"IF(AE6<>\"\",\"50\",\"\")","v":""},{"$f":"IF(AF6<>\"\",\"55\",\"\")","v":""}]
[null,null,null,null,null,null,null,"",{"$f":"IF((H7=\"\")+(H7=\"別途\")+(H7=\"時価\"),\"\",G7*H7)","v":""},"",null,"昼食バイキング","食堂",720,"観測ホール",null,null,null,{"$f":"IF(ご利用申込書!J8=\"\",\"\",ご利用申込書!J8)","v":""}]
["",null,null,null,null,null,null,"","","",null,"夕食バイキング","食堂",945,"-----",null,null,null,{"$f":"IF(ご利用申込書!M8=\"\",\"\",ご利用申込書!M8)","v":""},"","",null,{"$f":"IF(V8<>\"\",\"05\",\"\")","v":""},{"$f":"IF(W8<>\"\",\"10\",\"\")","v":""},{"$f":"IF(X8<>\"\",\"15\",\"\")","v":""},{"$f":"IF(Y8<>\"\",\"20\",\"\")","v":""},{"$f":"IF(Z8<>\"\",\"25\",\"\")","v":""},{"$f":"IF(AA8<>\"\",\"30\",\"\")","v":""},{"$f":"IF(AB8<>\"\",\"35\",\"\")","v":""},{"$f":"IF(AC8<>\"\",\"40\",\"\")","v":""},{"$f":"IF(AD8<>\"\",\"45\",\"\")","v":""},{"$f":"IF(AE8<>\"\",\"50\",\"\")","v":""},{"$f":"IF(AF8<>\"\",\"55\",\"\")","v":""}]
[null,null,null,null,null,null,null,"","","",null,"▼（２）特別食",null,"null","チャレンジ広場",null,null,null,{"$f":"IF(ご利用申込書!P8=\"\",\"\",ご利用申込書!P8)","v":""}]
[null,null,null,null,null,null,null,"","","",null,"海老フライ定食","食堂",1300,"ふれあい広場",null,null,null,"別途料金の単価と基本料金","","",null,{"$f":"IF(V10<>\"\",\"05\",\"\")","v":""},{"$f":"IF(W10<>\"\",\"10\",\"\")","v":""},{"$f":"IF(X10<>\"\",\"15\",\"\")","v":""},{"$f":"IF(Y10<>\"\",\"20\",\"\")","v":""},{"$f":"IF(Z10<>\"\",\"25\",\"\")","v":""},{"$f":"IF(AA10<>\"\",\"30\",\"\")","v":""},{"$f":"IF(AB10<>\"\",\"35\",\"\")","v":""},{"$f":"IF(AC10<>\"\",\"40\",\"\")","v":""},{"$f":"IF(AD10<>\"\",\"45\",\"\")","v":""},{"$f":"IF(AE10<>\"\",\"50\",\"\")","v":""},{"$f":"IF(AF10<>\"\",\"55\",\"\")","v":""}]
[null,null,null,null,null,null,null,"","","",null,"天ぷら定食","食堂",1150,"ロマン広場",null,null,null,550]
[null,null,null,null,null,null,null,"","","",null,"さしみ定食","食堂",1400,"野外ステージ",null,null,null,{"$f":"15000+3240","v":18240},"","",null,{"$f":"IF(V12<>\"\",\"05\",\"\")","v":""},{"$f":"IF(W12<>\"\",\"10\",\"\")","v":""},{"$f":"IF(X12<>\"\",\"15\",\"\")","v":""},{"$f":"IF(Y12<>\"\",\"20\",\"\")","v":""},{"$f":"IF(Z12<>\"\",\"25\",\"\")","v":""},{"$f":"IF(AA12<>\"\",\"30\",\"\")","v":""},{"$f":"IF(AB12<>\"\",\"35\",\"\")","v":""},{"$f":"IF(AC12<>\"\",\"40\",\"\")","v":""},{"$f":"IF(AD12<>\"\",\"45\",\"\")","v":""},{"$f":"IF(AE12<>\"\",\"50\",\"\")","v":""},{"$f":"IF(AF12<>\"\",\"55\",\"\")","v":""}]
[null,null,null,null,null,null,null,"","","",null,"▼（3）弁当",null,"null","芝生広場"]
[null,null,null,null,null,null,null,"","",null,null,"幕の内弁当",null,720,"-----",null,null,null,null,"","",null,{"$f":"IF(V14<>\"\",\"05\",\"\")","v":""},{"$f":"IF(W14<>\"\",\"10\",\"\")","v":""},{"$f":"IF(X14<>\"\",\"15\",\"\")","v":""},{"$f":"IF(Y14<>\"\",\"20\",\"\")","v":""},{"$f":"IF(Z14<>\"\",\"25\",\"\")","v":""},{"$f":"IF(AA14<>\"\",\"30\",\"\")","v":""},{"$f":"IF(AB14<>\"\",\"35\",\"\")","v":""},{"$f":"IF(AC14<>\"\",\"40\",\"\")","v":""},{"$f":"IF(AD14<>\"\",\"45\",\"\")","v":""},{"$f":"IF(AE14<>\"\",\"50\",\"\")","v":""},{"$f":"IF(AF14<>\"\",\"55\",\"\")","v":""}]
[null,null,null,null,null,null,null,"","","",null,"ハンバーグ弁当",null,600,"小野浦海岸"]
[null,null,null,null,null,null,null,"","","",null,"唐揚げ弁当",null,600,"-----",null,null,null,null,"","",null,{"$f":"IF(V16<>\"\",\"05\",\"\")","v":""},{"$f":"IF(W16<>\"\",\"10\",\"\")","v":""},{"$f":"IF(X16<>\"\",\"15\",\"\")","v":""},{"$f":"IF(Y16<>\"\",\"20\",\"\")","v":""},{"$f":"IF(Z16<>\"\",\"25\",\"\")","v":""},{"$f":"IF(AA16<>\"\",\"30\",\"\")","v":""},{"$f":"IF(AB16<>\"\",\"35\",\"\")","v":""},{"$f":"IF(AC16<>\"\",\"40\",\"\")","v":""},{"$f":"IF(AD16<>\"\",\"45\",\"\")","v":""},{"$f":"IF(AE16<>\"\",\"50\",\"\")","v":""},{"$f":"IF(AF16<>\"\",\"55\",\"\")","v":""}]
[null,null,null,null,null,null,null,"","","",null,"キッズ弁当",null,530,"第１研"]
[null,null,null,null,null,null,null,"",{"$f":"IF((H18=\"\")+(H18=\"別途\")+(H18=\"時価\"),\"\",G18*H18)","v":""},"",null,"みはま弁当",null,500,"第２研",null,null,null,null,"","",null,{"$f":"IF(V18<>\"\",\"05\",\"\")","v":""},{"$f":"IF(W18<>\"\",\"10\",\"\")","v":""},{"$f":"IF(X18<>\"\",\"15\",\"\")","v":""},{"$f":"IF(Y18<>\"\",\"20\",\"\")","v":""},{"$f":"IF(Z18<>\"\",\"25\",\"\")","v":""},{"$f":"IF(AA18<>\"\",\"30\",\"\")","v":""},{"$f":"IF(AB18<>\"\",\"35\",\"\")","v":""},{"$f":"IF(AC18<>\"\",\"40\",\"\")","v":""},{"$f":"IF(AD18<>\"\",\"45\",\"\")","v":""},{"$f":"IF(AE18<>\"\",\"50\",\"\")","v":""},{"$f":"IF(AF18<>\"\",\"55\",\"\")","v":""}]
[null,null,null,null,null,null,null,"","","",null,"■２．野外炊飯セット",null,"null","第３研"]
[null,null,null,"",null,null,null,"","","",null,"▼（１）食材",null,"null","第４研",null,null,null,null,"","",null,{"$f":"IF(V20<>\"\",\"05\",\"\")","v":""},{"$f":"IF(W20<>\"\",\"10\",\"\")","v":""},{"$f":"IF(X20<>\"\",\"15\",\"\")","v":""},{"$f":"IF(Y20<>\"\",\"20\",\"\")","v":""},{"$f":"IF(Z20<>\"\",\"25\",\"\")","v":""},{"$f":"IF(AA20<>\"\",\"30\",\"\")","v":""},{"$f":"IF(AB20<>\"\",\"35\",\"\")","v":""},{"$f":"IF(AC20<>\"\",\"40\",\"\")","v":""},{"$f":"IF(AD20<>\"\",\"45\",\"\")","v":""},{"$f":"IF(AE20<>\"\",\"50\",\"\")","v":""},{"$f":"IF(AF20<>\"\",\"55\",\"\")","v":""}]
[null,null,null,"",null,null,null,"","","",null,"カレーライス甘口",null,660,"第５研"]
[null,null,null,"",null,null,null,"","","",null,"カレーライス辛口",null,660,null,null,null,null,null,"","",null,{"$f":"IF(V22<>\"\",\"05\",\"\")","v":""},{"$f":"IF(W22<>\"\",\"10\",\"\")","v":""},{"$f":"IF(X22<>\"\",\"15\",\"\")","v":""},{"$f":"IF(Y22<>\"\",\"20\",\"\")","v":""},{"$f":"IF(Z22<>\"\",\"25\",\"\")","v":""},{"$f":"IF(AA22<>\"\",\"30\",\"\")","v":""},{"$f":"IF(AB22<>\"\",\"35\",\"\")","v":""},{"$f":"IF(AC22<>\"\",\"40\",\"\")","v":""},{"$f":"IF(AD22<>\"\",\"45\",\"\")","v":""},{"$f":"IF(AE22<>\"\",\"50\",\"\")","v":""},{"$f":"IF(AF22<>\"\",\"55\",\"\")","v":""}]
[null,null,null,"",null,null,null,"","","",null,"カレーうどん",null,600,"第６研"]
[null,null,null,"",null,null,null,"","","",null,"豚汁・御飯",null,430,"第７研",null,null,null,null,"","",null,{"$f":"IF(V24<>\"\",\"05\",\"\")","v":""},{"$f":"IF(W24<>\"\",\"10\",\"\")","v":""},{"$f":"IF(X24<>\"\",\"15\",\"\")","v":""},{"$f":"IF(Y24<>\"\",\"20\",\"\")","v":""},{"$f":"IF(Z24<>\"\",\"25\",\"\")","v":""},{"$f":"IF(AA24<>\"\",\"30\",\"\")","v":""},{"$f":"IF(AB24<>\"\",\"35\",\"\")","v":""},{"$f":"IF(AC24<>\"\",\"40\",\"\")","v":""},{"$f":"IF(AD24<>\"\",\"45\",\"\")","v":""},{"$f":"IF(AE24<>\"\",\"50\",\"\")","v":""},{"$f":"IF(AF24<>\"\",\"55\",\"\")","v":""}]
[null,null,null,"",null,null,null,"","","",null,"豚汁うどん",null,430,"第８研"]
[null,null,null,"",null,null,null,"","","",null,"焼きそば",null,500,"第９研",null,null,null,null,"","",null,{"$f":"IF(V26<>\"\",\"05\",\"\")","v":""},{"$f":"IF(W26<>\"\",\"10\",\"\")","v":""},{"$f":"IF(X26<>\"\",\"15\",\"\")","v":""},{"$f":"IF(Y26<>\"\",\"20\",\"\")","v":""},{"$f":"IF(Z26<>\"\",\"25\",\"\")","v":""},{"$f":"IF(AA26<>\"\",\"30\",\"\")","v":""},{"$f":"IF(AB26<>\"\",\"35\",\"\")","v":""},{"$f":"IF(AC26<>\"\",\"40\",\"\")","v":""},{"$f":"IF(AD26<>\"\",\"45\",\"\")","v":""},{"$f":"IF(AE26<>\"\",\"50\",\"\")","v":""},{"$f":"IF(AF26<>\"\",\"55\",\"\")","v":""}]
[null,null,null,"",null,null,null,"","","",null,"豚汁と焼きそば（米80g）",null,740,"第10研"]
[null,null,null,"",null,null,null,"","","",null,"豚肉鉄板焼き",null,950]
[null,null,null,"",null,null,null,"","","",null,"牛肉鉄板焼き",null,1600,"必要"]
[null,null,null,"",null,null,null,"","","",null,"海鮮バーベキュー",null,1600,"不要"]
[null,null,null,"",null,null,null,"","","",null,"朝ごはんセット",null,500]
[null,null,null,null,null,null,null,null,null,null,null,"カートンドック",null,350]
["※食品成分表",null,"必要",null,null,null,null,null,null,null,null,"おにぎりセット（米70g）",null,85]
[null,null,null,null,null,null,null,null,null,null,null,"おにぎり材料（米なし）",null,42]
["合 計 金 額",null,{"$f":"SUM(I6:I31)","v":0},null,"円",null,null,null,null,null,null,"ご飯を食堂で炊く",null,35]
[null,null,null,null,null,null,null,null,null,null,null,"米（１０g）",null,10]
[null,null,null,null,null,null,null,null,null,null,null,"▼（２）焚き付けなど",null,"null"]
["","","","","",null,null,null,null,null,null,"木炭（1kgあたり）",null,170]
["支 払 方 法","　□",null,null,"（どちらかの支払方法を選択してください）",null,null,null,null,null,null,"焚き付け（１束あたり）",null,450]
["領 収 書 の\n発 行 方 法","　□",null,null,null,null,null,null,null,null,null,"■３．ファイヤー用品",null,"null"]
[null,null,null,null,null,null,null,null,null,null,null,"ファイヤーＡｾｯﾄ（灯油なし）",null,9580]
["領収書の宛名",null,null,null,null,null,null,null,null,null,null,"ファイヤーＢｾｯﾄ（灯油なし）",null,13340]
[null,null,null,null,null,null,null,null,null,null,null,"丸太",null,450]
[null,null,null,null,null,null,null,null,null,null,null,"まき",null,350]
[null,null,null,null,null,null,null,null,null,null,null,"こわ",null,350]
[null,null,null,null,null,null,null,null,null,null,null,"灯油（１ﾘｯﾄﾙ）",null,150]
[null,null,null,null,null,null,null,null,null,null,null,"トーチ棒",null,370]
[null,null,null,null,null,null,null,null,null,null,null,"■４．キャンドル用品",null,"null"]
[null,null,null,null,null,null,null,null,null,null,null,"ろうそく　１号\n　（径9mm）","食堂事務室",9]
[null,null,null,null,null,null,null,null,null,null,null,"ろうそく２０号\n　（径21mm）","食堂事務室",150]
[null,null,null,null,null,null,null,null,null,null,null,"アルミホイル","食堂事務室",160]
[null,null,null,null,null,null,null,null,null,null,null,"アルミカップ（500枚）","食堂事務室",850]
[null,null,null,null,null,null,null,null,null,null,null,"■５．地引網 \n　６．魚つかみ取体験",null,"null"]
[null,null,null,null,null,null,null,null,null,null,null,"▼（１）地引網",null,"null"]
[null,null,null,null,null,null,null,null,null,null,null,"地引き網 魚ｱﾘ(4/1～9/15）","小野浦海岸\n屋外ステージ北",66000]
[null,null,null,null,null,null,null,null,null,null,null,"地引き網 魚ﾅｼ(4/1～9/15）","小野浦海岸\n屋外ステージ北",36000]
[null,null,null,null,null,null,null,null,null,null,null,"▼（２）魚のつかみ取り",null,"null"]
[null,null,null,null,null,null,null,null,null,null,null,"魚つかみ取り（4/1～9/15）","みはま美術館前","別途"]
[null,null,null,null,null,null,null,null,null,null,null,"▼（３）魚の調理指導・調理",null,"null"]
[null,null,null,null,null,null,null,null,null,null,null,"魚のさばきかた指導\n（10分程度）",null,0]
[null,null,null,null,null,null,null,null,null,null,null,"魚の調理補助\n（1人60分程度）",null,4300]
[null,null,null,null,null,null,null,null,null,null,null,"魚の調理\n（煮付け・刺し身）","食堂",230]
[null,null,null,null,null,null,null,null,null,null,null,"魚の調理\n（塩焼き）","食堂",160]
[null,null,null,null,null,null,null,null,null,null,null,"まき",null,350]
[null,null,null,null,null,null,null,null,null,null,null,"醤油（1リットルあたり）",null,275]
[null,null,null,null,null,null,null,null,null,null,null,"砂糖（1kgあたり）",null,255]
[null,null,null,null,null,null,null,null,null,null,null,"塩（1kgあたり）",null,145]
[null,null,null,null,null,null,null,null,null,null,null,"▼（４）干物づくり",null,"null"]
[null,null,null,null,null,null,null,null,null,null,null,"干物用さかな（生きたアジ）",null,550]
[null,null,null,null,null,null,null,null,null,null,null,"干物づくり指導２０名まで（調味料含む）",null,1000]
[null,null,null,null,null,null,null,null,null,null,null,"■７．おやつ",null,"null"]
[null,null,null,null,null,null,null,null,null,null,null,"▼（１）菓子",null,"null"]
[null,null,null,null,null,null,null,null,null,null,null,"チップスター",null,280]
[null,null,null,null,null,null,null,null,null,null,null,"パイの実",null,180]
[null,null,null,null,null,null,null,null,null,null,null,"コアラのマーチ",null,105]
[null,null,null,null,null,null,null,null,null,null,null,"きのこの山",null,240]
[null,null,null,null,null,null,null,null,null,null,null,"▼（２）パン",null,"null"]
[null,null,null,null,null,null,null,null,null,null,null,"粒あんパン",null,120]
[null,null,null,null,null,null,null,null,null,null,null,"クリームパン",null,120]
[null,null,null,null,null,null,null,null,null,null,null,"小倉＆ネオパン",null,105]
[null,null,null,null,null,null,null,null,null,null,null,"▼（３）おにぎり",null,"null"]
[null,null,null,null,null,null,null,null,null,null,null,"焼きおにぎり",null,105]
[null,null,null,null,null,null,null,null,null,null,null,"▼（４）飲み物",null,"null"]
[null,null,null,null,null,null,null,null,null,null,null,"ピクニックコーヒー（紙ﾊﾟｯｸ）",null,105]
[null,null,null,null,null,null,null,null,null,null,null,"サンキストアップル（紙ﾊﾟｯｸ）",null,105]
[null,null,null,null,null,null,null,null,null,null,null,"サンキストオレンジ（紙ﾊﾟｯｸ）",null,105]
[null,null,null,null,null,null,null,null,null,null,null,"ウーロン茶（350ml缶）",null,124]
[null,null,null,null,null,null,null,null,null,null,null,"ポカリスエット（350ml缶）",null,115]
[null,null,null,null,null,null,null,null,null,null,null,"ウーロン茶（500mlﾍﾟｯﾄ）",null,125]
[null,null,null,null,null,null,null,null,null,null,null,"緑茶（500mlﾍﾟｯﾄ）",null,125]
[null,null,null,null,null,null,null,null,null,null,null,"麦茶（500mlﾍﾟｯﾄ）",null,125]
[null,null,null,null,null,null,null,null,null,null,null,"水（500mlﾍﾟｯﾄ）",null,125]
[null,null,null,null,null,null,null,null,null,null,null,"ストレートティー（500mlﾍﾟｯﾄ）",null,125]
[null,null,null,null,null,null,null,null,null,null,null,"オレンジジュース（450mlﾍﾟｯﾄ）",null,145]
[null,null,null,null,null,null,null,null,null,null,null,"アップルジュース（450mlﾍﾟｯﾄ）",null,145]
[null,null,null,null,null,null,null,null,null,null,null,"グレープジュース（450mlﾍﾟｯﾄ）",null,145]
[null,null,null,null,null,null,null,null,null,null,null,"マッチ（500mlﾍﾟｯﾄ）",null,145]
[null,null,null,null,null,null,null,null,null,null,null,"ポカリスエット（500mlﾍﾟｯﾄ）",null,145]
[null,null,null,null,null,null,null,null,null,null,null,"アクエリアス（500mlﾍﾟｯﾄ）",null,145]
[null,null,null,null,null,null,null,null,null,null,null,"コーヒー（500mlﾍﾟｯﾄ）",null,145]
[null,null,null,null,null,null,null,null,null,null,null,"オレンジジュース(1.5Lﾍﾟｯﾄ)",null,315]
[null,null,null,null,null,null,null,null,null,null,null,"アップルジュース(1.5Lﾍﾟｯﾄ)",null,315]
[null,null,null,null,null,null,null,null,null,null,null,"グレープジュース(1.5Lﾍﾟｯﾄ)",null,315]
[null,null,null,null,null,null,null,null,null,null,null,"ポカリスエット(1.5Lﾍﾟｯﾄ)",null,320]
[null,null,null,null,null,null,null,null,null,null,null,"水(2Lﾍﾟｯﾄ)",null,200]
[null,null,null,null,null,null,null,null,null,null,null,"緑茶(2Lﾍﾟｯﾄ)",null,230]
[null,null,null,null,null,null,null,null,null,null,null,"麦茶(2Lﾍﾟｯﾄ)　6～9月",null,230]
[null,null,null,null,null,null,null,null,null,null,null,"アクエリアス(2Lﾍﾟｯﾄ)",null,320]
[null,null,null,null,null,null,null,null,null,null,null,"▼（５）デザート",null,"null"]
[null,null,null,null,null,null,null,null,null,null,null,"プリン",null,85]
[null,null,null,null,null,null,null,null,null,null,null,"ゼリー",null,60]
[null,null,null,null,null,null,null,null,null,null,null,"アイスクリーム",null,145]
[null,null,null,null,null,null,null,null,null,null,null,"バナナ",null,"時価"]
[null,null,null,null,null,null,null,null,null,null,null,"すいか",null,"時価"]
[null,null,null,null,null,null,null,null,null,null,null,"■８．創作活動",null,"null"]
[null,null,null,null,null,null,null,null,null,null,null,"▼（１）一刀彫",null,"null"]
[null,null,null,null,null,null,null,null,null,null,null,"湯呑生地","食堂事務室",545]
[null,null,null,null,null,null,null,null,null,null,null,"▼（２）クラフト材料",null,"null"]
[null,null,null,null,null,null,null,null,null,null,null,"壁かけ材料","食堂事務室",500]
[null,null,null,null,null,null,null,null,null,null,null,"竹とんぼ材料","食堂事務室",105]
[null,null,null,null,null,null,null,null,null,null,null,"ビーチコーミングクラフト（木枠）","食堂事務室",180]
[null,null,null,null,null,null,null,null,null,null,null,"■９．喫茶コーナー",null,"null"]
[null,null,null,null,null,null,null,null,null,null,null,"コーヒー","喫茶コーナー",260]
[null,null,null,null,null,null,null,null,null,null,null,"氷（約2㎏）",null,200]
[null,null,null,null,null,null,null,null,null,null,null,"■１０．その他",null,"null"]
[null,null,null,null,null,null,null,null,null,null,null,"カレー皿（プラ楕円）",null,25]
[null,null,null,null,null,null,null,null,null,null,null,"割り箸",null,5]
[null,null,null,null,null,null,null,null,null,null,null,"紙皿１８ｃｍ（薄手）",null,15]
[null,null,null,null,null,null,null,null,null,null,null,"紙皿２２ｃｍ（厚手）",null,35]
[null,null,null,null,null,null,null,null,null,null,null,"紙コップ",null,6]
[null,null,null,null,null,null,null,null,null,null,null,"プラスプーン",null,10]
[null,null,null,null,null,null,null,null,null,null,null,"どんぶり",null,26]
[null,null,null,null,null,null,null,null,null,null,null,"軍手",null,30]
[null,null,null,null,null,null,null,null,null,null,null,"ちくわ作り（8人分）",null,1600]
[null,null,null,null,null,null,null,null,null,null,null,"バームクーヘン作り（8人分）",null,2300]

{"sheet":"物品使用届","index":3,"n_rows":66,"n_cols":23,"rows_kept":66,"cut":false,"hidden":false,"merged":[[9,5,9,8],[14,5,14,8],[19,5,19,8],[7,7,7,8],[11,0,11,3],[17,0,17,3],[16,0,16,3],[27,4,27,5],[11,7,11,8],[12,7,12,8],[16,7,16,8],[17,7,17,8],[21,7,21,8],[22,7,22,8],[26,7,26,8],[27,7,27,8],[11,4,11,5],[12,4,12,5],[16,4,16,5],[17,4,17,5],[13,0,13,8],[27,0,27,3],[27,9,27,10],[0,0,0,12],[1,11,1,12],[8,0,8,8],[8,9,8,10],[6,4,6,5],[7,4,7,5],[6,7,6,8],[23,0,23,8],[23,9,23,10],[24,1,24,4],[24,9,24,10],[25,0,25,8],[9,1,9,4],[9,9,9,10],[26,0,26,3],[26,9,26,10],[20,0,20,8],[20,9,20,10],[21,0,21,3],[21,9,21,10],[22,0,22,3],[22,9,22,10],[22,4,22,5],[21,4,21,5],[24,5,24,8],[26,4,26,5],[25,9,25,10],[17,9,17,10],[18,0,18,8],[18,9,18,10],[19,1,19,4],[19,9,19,10],[16,9,16,10],[4,1,4,4],[4,9,4,10],[4,12,7,12],[7,0,7,3],[7,9,7,10],[13,9,13,10],[14,1,14,4],[14,9,14,10],[15,0,15,8],[15,9,15,10],[12,0,12,3],[12,9,12,10],[10,0,10,8],[10,9,10,10],[11,9,11,10],[3,13,6,13],[5,0,5,8],[5,9,5,10],[6,0,6,3],[6,9,6,10],[4,5,4,8],[1,0,1,2],[1,3,1,9],[2,0,2,8],[2,9,2,10],[3,0,3,8],[3,9,3,10]]}
["◆愛知県美浜少年自然の家　物品ご利用申込書　　（必要事項をご入力ください。）",null,null,null,null,null,null,null,null,null,null,null,null,null,"物品名","場所"]
["団体名",null,null,{"$f":"IF(ご利用申込書!C2=\"\",\"\",ご利用申込書!C2)","v":""},null,null,null,null,null,null,"担当者名",{"$f":"IF(ご利用申込書!C6=\"\",\"\",ご利用申込書!C6)","v":""},null,null,"放送機器一式（講堂）","体育館"]
["使　用　日　時",null,null,null,null,null,null,null,null,"品　　　　　　名",null,"数　量","使　用　場　所",null,"放送機器一式（体育館）","講堂",null,null,null,null,null,null,{"$f":"IF(ご利用申込書!D8=\"\",\"\",ご利用申込書!D8)","v":""}]
[null,null,null,null,null,null,null,null,null,null,null,null,null,null,"ワイアレスアンプ一式",null,null,null,null,null,null,null,{"$f":"IF(ご利用申込書!G8=\"\",\"\",ご利用申込書!G8)","v":""}]
[null,null,null,null,null,{"$f":"IF(B5=\"\",\"\",B5)","v":""},null,null,null,null,null,null,"memo",null,"CDラジカセ","チャレンジ広場",null,null,null,null,null,null,{"$f":"IF(ご利用申込書!J8=\"\",\"\",ご利用申込書!J8)","v":""}]
[null,null,null,null,null,null,null,null,null,null,null,null,null,null,"延長コード","ふれあい広場",null,null,null,null,null,null,{"$f":"IF(ご利用申込書!M8=\"\",\"\",ご利用申込書!M8)","v":""}]
["受け渡し時刻",null,null,null,null,null,"：",null,null,null,null,null,null,null,null,"ロマンの広場",null,null,null,null,null,null,{"$f":"IF(ご利用申込書!P8=\"\",\"\",ご利用申込書!P8)","v":""}]
["返却時刻",null,null,null,null,null,"：",null,null,null,null,null,null,null,"ピアノ（講堂）","芝生広場"]
[null,null,null,null,null,null,null,null,null,null,null,null,null,null,"プロジェクター"]
[null,null,null,null,null,{"$f":"IF(B10=\"\",\"\",B10)","v":""},null,null,null,null,null,null,"memo",null,"スクリーン","小野浦海岸"]
[]
["受け渡し時刻",null,null,null,null,null,"：",null,null,null,null,null,null,null,"火の神の衣装","第１研修室"]
["返却時刻",null,null,null,null,null,"：",null,null,null,null,null,null,null,"燭台（講堂）","第２研修室"]
[null,null,null,null,null,null,null,null,null,null,null,null,null,null,"燭台（体育館）","第３研修室"]
[null,null,null,null,null,{"$f":"IF(B15=\"\",\"\",B15)","v":""},null,null,null,null,null,null,"memo",null,null,"第４研修室"]
[null,null,null,null,null,null,null,null,null,null,null,null,null,null,"スコップ","第５研修室"]
["受け渡し時刻",null,null,null,null,null,"：",null,null,null,null,null,null,null,"移植ゴテ"]
["返却時刻",null,null,null,null,null,"：",null,null,null,null,null,null,null,"ジョウロ","第６研修室"]
[null,null,null,null,null,null,null,null,null,null,null,null,null,null,"バケツ","第７研修室"]
[null,null,null,null,null,{"$f":"IF(B20=\"\",\"\",B20)","v":""},null,null,null,null,null,null,"memo",null,"リアカー","第８研修室"]
[null,null,null,null,null,null,null,null,null,null,null,null,null,null,null,"第９研修室"]
["受け渡し時刻",null,null,null,null,null,"：",null,null,null,null,null,null,null,"ゼッケン","第10研修室"]
["返却時刻",null,null,null,null,null,"：",null,null,null,null,null,null,null,"タスキ（4色、各50本）"]
[]
[null,null,null,null,null,{"$f":"IF(B25=\"\",\"\",B25)","v":""},null,null,null,null,null,null,"memo",null,"バレーボール（支柱・ネット）"]
[null,null,null,null,null,null,null,null,null,null,null,null,null,null,"バレーボール（ボール）"]
["受け渡し時刻",null,null,null,null,null,"：",null,null,null,null,null,null,null,"ソフトバレーボール（支柱・ネット）"]
["返却時刻",null,null,null,null,null,"：",null,null,null,null,null,null,null,"ソフトバレーボール（ボール）"]
[null,null,null,null,null,null,null,null,null,null,null,null,null,null,"ドッジボール"]
[null,null,null,null,null,null,null,null,null,null,null,null,null,null,"バスケットボール"]
[]
[null,null,null,null,null,null,null,null,null,null,null,null,null,null,"バトミントン（支柱・ネット）"]
[null,null,null,null,null,null,null,null,null,null,null,null,null,null,"バトミントン（ラケット）"]
[null,null,null,null,null,null,null,null,null,null,null,null,null,null,"バドミントン（シャトル）"]
[null,null,null,null,null,null,null,null,null,null,null,null,null,null,"硬式テニス（支柱・ネット）"]
[null,null,null,null,null,null,null,null,null,null,null,null,null,null,"インディアカ（羽根）"]
[]
[null,null,null,null,null,null,null,null,null,null,null,null,null,null,"縄跳び縄（一人用）"]
[null,null,null,null,null,null,null,null,null,null,null,null,null,null,"縄跳び縄（１０ｍ）"]
[null,null,null,null,null,null,null,null,null,null,null,null,null,null,"縄跳び縄（２５ｍ）"]
[null,null,null,null,null,null,null,null,null,null,null,null,null,null,"綱引き綱（２０ｍ）"]
[null,null,null,null,null,null,null,null,null,null,null,null,null,null,"綱引き綱（５０ｍ）"]
[]
[null,null,null,null,null,null,null,null,null,null,null,null,null,null,"卓球台・ネット"]
[null,null,null,null,null,null,null,null,null,null,null,null,null,null,"卓球ラケット"]
[null,null,null,null,null,null,null,null,null,null,null,null,null,null,"ピンポン玉"]
[null,null,null,null,null,null,null,null,null,null,null,null,null,null,"防球ネット"]
[]
[null,null,null,null,null,null,null,null,null,null,null,null,null,null,"バウンドテニスラケット"]
[null,null,null,null,null,null,null,null,null,null,null,null,null,null,"バウンドテニスボール"]
[null,null,null,null,null,null,null,null,null,null,null,null,null,null,"バンブー・ダンスセット"]
[null,null,null,null,null,null,null,null,null,null,null,null,null,null,"キャッチ・ザ・スティックセット"]
[null,null,null,null,null,null,null,null,null,null,null,null,null,null,"マット"]
[null,null,null,null,null,null,null,null,null,null,null,null,null,null,"ドッジビー"]
[]
[null,null,null,null,null,null,null,null,null,null,null,null,null,null,"工作用トレー"]
[null,null,null,null,null,null,null,null,null,null,null,null,null,null,"彫刻刀（5本セット）"]
[null,null,null,null,null,null,null,null,null,null,null,null,null,null,"パレット"]
[null,null,null,null,null,null,null,null,null,null,null,null,null,null,"筆洗いバケツ"]
[null,null,null,null,null,null,null,null,null,null,null,null,null,null,"筆洗い容器"]
[]
[null,null,null,null,null,null,null,null,null,null,null,null,null,null,"天体望遠鏡"]
[null,null,null,null,null,null,null,null,null,null,null,null,null,null,"双眼鏡"]
[]
[null,null,null,null,null,null,null,null,null,null,null,null,null,null,"電子ピアノ（第10研修室）"]
[null,null,null,null,null,null,null,null,null,null,null,null,null,null,"ギター"]

{"sheet":"プログラム（スケジュール）","index":4,"n_rows":71,"n_cols":18,"rows_kept":71,"cut":false,"hidden":false,"merged":[[3,7,4,7],[4,12,4,13],[70,7,71,7],[70,8,71,13],[0,8,0,9],[0,10,0,11],[0,12,0,13],[1,12,1,13],[70,0,71,0],[70,1,71,6],[0,1,0,2],[3,0,4,0],[0,3,0,4],[0,5,0,6],[1,5,1,6]]}
["団体名　",{"$f":"IF(ご利用申込書!C2=\"\",\"\",ご利用申込書!C2)","v":""},null,{"$f":"IF(ご利用申込書!C6=\"\",\"利用責任者：\",\"利用責任者：　\"&ご利用申込書!C6)","v":"利用責任者："},null,{"$f":"IF(ご利用申込書!M6=\"連絡先（携帯）：\",\"\",\"連絡先（携帯）：　\"&ご利用申込書!M6)","v":"連絡先（携帯）：　"},null,"団体名　",{"$f":"IF(B1=\"\",\"\",B1)","v":""},null,{"$f":"D1","v":"利用責任者："},null,{"$f":"F1","v":"連絡先（携帯）：　"}]
["利用\n日時",{"$f":"IF(ご利用申込書!D8=\"\",\" \",ご利用申込書!D8)","v":" "},{"$f":"IF(ご利用申込書!C9=\"\",\"\",ご利用申込書!C9)","v":""},{"$f":"IF(ご利用申込書!O8<>\"\",ご利用申込書!P8,IF(ご利用申込書!L8<>\"\",ご利用申込書!M8,IF(ご利用申込書!I8<>\"\",ご利用申込書!J8,IF(ご利用申込書!F8<>\"\",ご利用申込書!G8,IF(ご利用申込書!C8<>\"\",ご利用申込書!D8,\"\")))))","v":""},{"$f":"IF(ご利用申込書!O10<>\"\",ご利用申込書!O10,IF(ご利用申込書!L10<>\"\",ご利用申込書!L10,IF(ご利用申込書!I10<>\"\",ご利用申込書!I10,IF(ご利用申込書!F10<>\"\",ご利用申込書!F10,IF(ご利用申込書!C10<>\"\",ご利用申込書!C10,\"\")))))","v":""},{"$f":"IF(ご利用申込書!M3=\"連絡先（代表）：\",\"\",\"連絡先（代表）：　\"&ご利用申込書!M3)","v":"連絡先（代表）：　"},null,"利用\n日時",{"$f":"IF(B2=\"\",\"\",B2)","v":" "},{"$f":"IF(C2=\"\",\"\",C2)","v":""},"","",{"$f":"F2","v":"連絡先（代表）：　"}]
["宿泊\n人数",{"$f":"IF(ご利用申込書!C56=\"\",\"\",ご利用申込書!C56)","v":""},"人","入所時所長挨拶",null,"退所時所長挨拶",null,"宿泊\n人数",{"$f":"IF(B3=\"\",\"\",B3)","v":""},"人","入所時所長挨拶",{"$f":"IF(E3=\"\",\"\",E3)","v":""},"退所時所長挨拶",{"$f":"IF(G3=\"\",\"\",G3)","v":""}]
[null,{"$f":"IF(ご利用申込書!C8=\"\",\"\",ご利用申込書!C8)","v":""},{"$f":"IF(ご利用申込書!D8=\"\",\"\",ご利用申込書!D8)","v":""},{"$f":"IF(ご利用申込書!F8=\"\",\"\",ご利用申込書!F8)","v":""},{"$f":"IF(ご利用申込書!G8=\"\",\"\",ご利用申込書!G8)","v":""},{"$f":"IF(ご利用申込書!I8=\"\",\"\",ご利用申込書!I8)","v":""},{"$f":"IF(ご利用申込書!J8=\"\",\"\",ご利用申込書!J8)","v":""},null,{"$f":"IF(ご利用申込書!L8=\"\",\"\",ご利用申込書!L8)","v":""},{"$f":"IF(ご利用申込書!M8=\"\",\"\",ご利用申込書!M8)","v":""},{"$f":"IF(ご利用申込書!O8=\"\",\"\",ご利用申込書!O8)","v":""},{"$f":"IF(ご利用申込書!P8=\"\",\"\",ご利用申込書!P8)","v":""},"　日目","月　　日",null,null,null,"要"]
[null,null,null,"朝の集いスピーチ　１名","旗係　　名","朝の集いスピーチ　１名","旗係　　名",null,"朝の集いスピーチ　１名","旗係　　名","朝の集いスピーチ　１名","旗係　　名","以下は記入例です。",null,null,null,null,"不要"]
["時刻","活動内容","場所","活動内容","場所","活動内容","場所","時刻","活動内容","場所","活動内容","場所","活動内容","場所"]
["06:30:00",null,null,null,null,null,null,"06:30:00",null,null,null,null,"６３０起床"]
[]
["07:00:00",null,null,null,null,null,null,"07:00:00",null,null,null,null,"７００朝の集い","集いの広場"]
[null,null,null,null,null,null,null,null,null,null,null,null,null,"（体育館）"]
["07:30:00",null,null,null,null,null,null,"07:30:00",null,null,null,null,"７２０朝食","食堂"]
[]
["08:00:00",null,null,null,null,null,null,"08:00:00",null,null,null,null,"８００荷物整理","宿泊室"]
[]
["08:30:00",null,null,null,null,null,null,"08:30:00"]
[]
["09:00:00",null,null,null,null,null,null,"09:00:00"]
[null,null,null,null,null,null,null,null,null,null,null,null,"９１０海水浴オリ","集いの広場"]
["09:30:00",null,null,null,null,null,null,"09:30:00",null,null,null,null,"９３０海水浴","海岸"]
[]
["10:00:00",null,null,null,null,null,null,"10:00:00"]
[]
["10:30:00",null,null,null,null,null,null,"10:30:00"]
[]
["11:00:00",null,null,null,null,null,null,"11:00:00",null,null,null,null,"１１００海水浴終了"]
[]
["11:30:00",null,null,null,null,null,null,"11:30:00"]
[]
["12:00:00",null,null,null,null,null,null,"12:00:00",null,null,null,null,"１２００注文弁当","ふれあい炊飯場"]
[]
["12:30:00",null,null,null,null,null,null,"12:30:00"]
[]
["13:00:00",null,null,null,null,null,null,"13:00:00",null,null,null,null,"１３００学級活動","ロマン・芝生広場"]
[]
["13:30:00",null,null,null,null,null,null,"13:30:00"]
[]
["14:00:00",null,null,null,null,null,null,"14:00:00"]
[]
["14:30:00",null,null,null,null,null,null,"14:30:00"]
[]
["15:00:00",null,null,null,null,null,null,"15:00:00",null,null,null,null,"１５００野外炊飯","ふれあい炊飯場"]
[]
["15:30:00",null,null,null,null,null,null,"15:30:00"]
[]
["16:00:00",null,null,null,null,null,null,"16:00:00"]
[]
["16:30:00",null,null,null,null,null,null,"16:30:00"]
[]
["17:00:00",null,null,null,null,null,null,"17:00:00"]
[]
["17:30:00",null,null,null,null,null,null,"17:30:00"]
[]
["18:00:00",null,null,null,null,null,null,"18:00:00",null,null,null,null,"１８００入浴"]
[]
["18:30:00",null,null,null,null,null,null,"18:30:00"]
[]
["19:00:00",null,null,null,null,null,null,"19:00:00"]
[]
["19:30:00",null,null,null,null,null,null,"19:30:00",null,null,null,null,"１９３０ふれあい活動","体育館"]
[]
["20:00:00",null,null,null,null,null,null,"20:00:00"]
[]
["20:30:00",null,null,null,null,null,null,"20:30:00"]
[]
["21:00:00",null,null,null,null,null,null,"21:00:00"]
[]
["21:30:00",null,null,null,null,null,null,"21:30:00",null,null,null,null,"２１３０就寝準備"]
[]
["22:00:00",null,null,null,null,null,null,"22:00:00",null,null,null,null,"２２００消灯就寝"]
[]
[null,"※　余裕をもったご計画をお願い致します。\n※　雨天案は（　　　　）を使ってご記入ください。\n※　食事・入浴時間等は約２か月前に原案をお送りします。所員と連絡を取り合い内容や時間を決定します。\n",null,null,null,null,null,null,"※　余裕をもったご計画をお願い致します。\n※　雨天案は（　　　　）を使ってご記入ください。\n※　食事・入浴時間等は約２か月前に原案をお送りします。所員と連絡を取り合い内容や時間を決定します。\n"]

{"sheet":"記入例","index":5,"n_rows":71,"n_cols":7,"rows_kept":71,"cut":false,"hidden":false,"merged":[[2,0,2,2],[70,0,71,0],[70,1,71,6],[0,0,0,2],[0,3,0,4],[0,5,0,6],[1,1,1,2],[1,3,1,4],[1,5,1,6]]}
["団体名　　○○　小学校",null,null,"利用責任者　　　　",null,"連絡先１　携帯電話"]
["利用日時","平成　　　年　　月　　日　　時　　分　　～",null,"平成　　　年　　月　　日　　時　　分",null,"連絡先２　ｆａｘなど"]
["宿泊人数　　　　　　　　　　　　　　　　　　　人",null,null,"入所時所長挨拶","要・不要","退所時所長挨拶","要・不要"]
[null,"１日目","月　　日","２日目","月　　日","３日目","月　　日"]
[null,null,null,"朝の集いスピーチ　１名","旗係　２名","朝の集いスピーチ　１名","旗係　３名"]
["時刻","活動内容","場所","活動内容2","場所3","活動内容4","場所5"]
["06:30:00",null,null,"６３０起床",null,"６３０起床"]
[]
["07:00:00",null,null,"７００朝の集い","集いの広場","７００朝の集い","集いの広場"]
[null,null,null,null,"（体育館）",null,"（体育館）"]
["07:30:00",null,null,"７２０朝食","食堂"]
[]
["08:00:00",null,null,"８００荷物整理","宿泊室","８００荷物整理・掃除","宿泊室他"]
[]
["08:30:00"]
[]
["09:00:00",null,null,null,null,"９００退所点検","宿泊室"]
[null,"９１０　到着",null,"９１０海水浴オリ","集いの広場","９００レクレーション","体育館"]
["09:30:00","９３０入所式","講堂","９３０海水浴","海岸"]
[]
["10:00:00"]
[null,"１０２０学級活動","研修室"]
["10:30:00","学校生活について"]
[null,"学級別レクレーション"]
["11:00:00",null,null,"１１００海水浴終了"]
[]
["11:30:00"]
[]
["12:00:00","１２００昼食","食堂","１２００注文弁当","ふれあい炊飯場","１２００昼食","食堂"]
[]
["12:30:00"]
[]
["13:00:00","１３００全体活動","講堂","１３００学級活動","ロマン・芝生広場"]
[null,"歌声コンクール",null,null,null,"１３２０退所式","体育館"]
["13:30:00"]
[null,null,null,null,null,"１４００出発"]
["14:00:00"]
[]
["14:30:00"]
[]
["15:00:00","１５００砂の造形","海岸","１５００野外炊飯","ふれあい炊飯場"]
[null,"（海岸散策）"]
["15:30:00"]
[]
["16:00:00"]
[]
["16:30:00"]
[]
["17:00:00","１７００夕食","食堂"]
[]
["17:30:00"]
[]
["18:00:00","１８１０キャンプファイヤー","ふれあい営火場","１８００入浴"]
[null,"（キャンドルサービス）","（講堂）"]
["18:30:00"]
[]
["19:00:00"]
[]
["19:30:00",null,null,"１９３０ふれあい活動","体育館"]
[]
["20:00:00"]
[null,"２０２０入浴"]
["20:30:00"]
[]
["21:00:00"]
[]
["21:30:00","２１３０就寝準備",null,"２１３０就寝準備"]
[]
["22:00:00","２２００消灯就寝",null,"２２００消灯就寝"]
[]
[null,"※　余裕をもったご計画をお願い致します。\n※　雨天案は（　　　　）を使ってご記入ください。\n※　食事・入浴時間等は約２か月前に原案をお送りします。所員と連絡を取り合い内容や時間を決定します。\n"]